BEGIN:VCALENDAR
VERSION:2.0
PRODID:-//Secretaria de Turismo - ECPv6.15.17.1//NONSGML v1.0//EN
CALSCALE:GREGORIAN
METHOD:PUBLISH
X-WR-CALNAME:Secretaria de Turismo
X-ORIGINAL-URL:https://vemprariopardo.sp.gov.br
X-WR-CALDESC:Eventos para Secretaria de Turismo
REFRESH-INTERVAL;VALUE=DURATION:PT1H
X-Robots-Tag:noindex
X-PUBLISHED-TTL:PT1H
BEGIN:VTIMEZONE
TZID:America/Sao_Paulo
BEGIN:STANDARD
TZOFFSETFROM:-0300
TZOFFSETTO:-0300
TZNAME:-03
DTSTART:20250101T000000
END:STANDARD
END:VTIMEZONE
BEGIN:VEVENT
DTSTART;TZID=America/Sao_Paulo:20260426T160000
DTEND;TZID=America/Sao_Paulo:20260426T233000
DTSTAMP:20260425T090013
CREATED:20260410T224514Z
LAST-MODIFIED:20260410T224514Z
UID:1128-1777219200-1777246200@vemprariopardo.sp.gov.br
SUMMARY:Vem aí o Circuito Sesc de Artes!
DESCRIPTION:Vem aí o Circuito Sesc de Artes! \nEm São José do Rio Pardo será no dia 26 de abril\, no Tartarugão – Área de Lazer\, a partir das 16h! \nSerão espetáculos de música\, dança\, teatro\, oficinas\, mediações de leitura\, atividades de turismo\, cinema\, discotecagem ao vivo e muita coisa bacana pra participar com a família toda. \nConfira a programação no carrossel! \nO Circuito Sesc de Artes passa por 133 cidades do interior\, litoral e grande São Paulo\, e o melhor de tudo: é gratuito e aberto para todas as pessoas! \nTambém vai rolar acessibilidade em Libras em várias cidades\, ampliando as medidas de inclusão para os mais diversos públicos. \nParticipe! Saiba mais em sescsp.org.br/circuito
URL:https://vemprariopardo.sp.gov.br/eventos/vem-ai-o-circuito-sesc-de-artes/
ATTACH;FMTTYPE=image/jpeg:https://vemprariopardo.sp.gov.br/wp-content/uploads/2026/04/WhatsApp-Image-2026-04-10-at-16.29.02.jpeg
END:VEVENT
END:VCALENDAR